
BEGIN:VCALENDAR
VERSION:2.0
PRODID:-//TYPO3/NONSGML News system (news)//EN
BEGIN:VEVENT
UID:news-5531@www.hwr-berlin.de
DTSTAMP:20230403T073508Z
DTSTART:20230420T150000+0200
DTEND:20230420T150000+0200
SUMMARY:Planting an ecological flower meadow
END:VEVENT
END:VCALENDAR

