
BEGIN:VCALENDAR
VERSION:2.0
PRODID:-//TYPO3/NONSGML News system (news)//EN
BEGIN:VEVENT
UID:news-5379@www.hwr-berlin.de
DTSTAMP:20260323T124011Z
DTSTART:20260422T140000+0200
DTEND:20260422T140000+0200
SUMMARY:Einführung in die Hochschulbibliothek – Grundschulung 
END:VEVENT
END:VCALENDAR

