
BEGIN:VCALENDAR
VERSION:2.0
PRODID:-//TYPO3/NONSGML News system (news)//EN
BEGIN:VEVENT
UID:news-6781@www.hwr-berlin.de
DTSTAMP:20260324T093547Z
DTSTART:20260624T160000+0200
DTEND:20260624T160000+0200
SUMMARY:Literaturverwaltung mit Zotero
END:VEVENT
END:VCALENDAR

