
BEGIN:VCALENDAR
VERSION:2.0
PRODID:-//TYPO3/NONSGML News system (news)//EN
BEGIN:VEVENT
UID:news-5404@www.hwr-berlin.de
DTSTAMP:20260323T124318Z
DTSTART:20260617T140000+0200
DTEND:20260617T140000+0200
SUMMARY:Einführung in die Hochschulbibliothek – Aufbauschulung 
END:VEVENT
END:VCALENDAR

