
BEGIN:VCALENDAR
VERSION:2.0
PRODID:-//TYPO3/NONSGML News system (news)//EN
BEGIN:VEVENT
UID:news-5308@www.hwr-berlin.de
DTSTAMP:20260422T075937Z
DTSTART:20260512T170000+0200
DTEND:20260512T170000+0200
SUMMARY:Evaluation des Versammlungsfreiheitsgesetzes Berlin: Bewährtes und Reformbedarfe 
END:VEVENT
END:VCALENDAR

